BEGIN:VCALENDAR
VERSION:2.0
PRODID:-//University District Community Association - ECPv6.15.17.1//NONSGML v1.0//EN
CALSCALE:GREGORIAN
METHOD:PUBLISH
X-ORIGINAL-URL:https://udca.info
X-WR-CALDESC:Events for University District Community Association
REFRESH-INTERVAL;VALUE=DURATION:PT1H
X-Robots-Tag:noindex
X-PUBLISHED-TTL:PT1H
BEGIN:VTIMEZONE
TZID:America/Detroit
BEGIN:DAYLIGHT
TZOFFSETFROM:-0500
TZOFFSETTO:-0400
TZNAME:EDT
DTSTART:20250309T070000
END:DAYLIGHT
BEGIN:STANDARD
TZOFFSETFROM:-0400
TZOFFSETTO:-0500
TZNAME:EST
DTSTART:20251102T060000
END:STANDARD
BEGIN:DAYLIGHT
TZOFFSETFROM:-0500
TZOFFSETTO:-0400
TZNAME:EDT
DTSTART:20260308T070000
END:DAYLIGHT
BEGIN:STANDARD
TZOFFSETFROM:-0400
TZOFFSETTO:-0500
TZNAME:EST
DTSTART:20261101T060000
END:STANDARD
BEGIN:DAYLIGHT
TZOFFSETFROM:-0500
TZOFFSETTO:-0400
TZNAME:EDT
DTSTART:20270314T070000
END:DAYLIGHT
BEGIN:STANDARD
TZOFFSETFROM:-0400
TZOFFSETTO:-0500
TZNAME:EST
DTSTART:20271107T060000
END:STANDARD
END:VTIMEZONE
BEGIN:VEVENT
DTSTART;TZID=America/Detroit:20260502T130000
DTEND;TZID=America/Detroit:20260502T170000
DTSTAMP:20260423T232640
CREATED:20260302T190340Z
LAST-MODIFIED:20260423T194001Z
UID:10000628-1777726800-1777741200@udca.info
SUMMARY:Motor City Makeover
DESCRIPTION:Join the Beautification Committee for a neighborhood-wide clean up in honor of Detroit’s Annual Motor City Makeover Event. \nStop by to pick up supplies to collect trash and leaves from neighborhood streets and storm drains. \nQuestions?\nContact UDCA Beautification Co-Chairs:\nDanielle Bluford\, Project Manager Blufordd@gmail.com\nDinah Dittman DinahDittman@outlook.com \nMotor City Makeover 365 is a citywide cleanup and beautification initiative. Over the past 30 years MCM 365 has evolved\,\npartnering with block clubs and associations on their efforts has become essential to the success of this initiative.\nAnnually\, thousands of volunteers across Detroit come together to clean and beautify neighborhoods\, parks\, playgrounds\, and around businesses\, schools\, and places of worship.
URL:https://udca.info/event/motor-city-makeover2026/
LOCATION:SavOn Parking Lot\, 18000 Livernois\, Detroit\, 48221\, United States
CATEGORIES:Social Events
ATTACH;FMTTYPE=image/png:https://udca.info/wp-content/uploads/2026/03/MCM2026.png
END:VEVENT
END:VCALENDAR