BEGIN:VCALENDAR
VERSION:2.0
PRODID:-//University District Community Association - ECPv6.15.17.1//NONSGML v1.0//EN
CALSCALE:GREGORIAN
METHOD:PUBLISH
X-WR-CALNAME:University District Community Association
X-ORIGINAL-URL:https://udca.info
X-WR-CALDESC:Events for University District Community Association
REFRESH-INTERVAL;VALUE=DURATION:PT1H
X-Robots-Tag:noindex
X-PUBLISHED-TTL:PT1H
BEGIN:VTIMEZONE
TZID:America/Detroit
BEGIN:DAYLIGHT
TZOFFSETFROM:-0500
TZOFFSETTO:-0400
TZNAME:EDT
DTSTART:20260308T070000
END:DAYLIGHT
BEGIN:STANDARD
TZOFFSETFROM:-0400
TZOFFSETTO:-0500
TZNAME:EST
DTSTART:20261101T060000
END:STANDARD
BEGIN:DAYLIGHT
TZOFFSETFROM:-0500
TZOFFSETTO:-0400
TZNAME:EDT
DTSTART:20270314T070000
END:DAYLIGHT
BEGIN:STANDARD
TZOFFSETFROM:-0400
TZOFFSETTO:-0500
TZNAME:EST
DTSTART:20271107T060000
END:STANDARD
BEGIN:DAYLIGHT
TZOFFSETFROM:-0500
TZOFFSETTO:-0400
TZNAME:EDT
DTSTART:20280312T070000
END:DAYLIGHT
BEGIN:STANDARD
TZOFFSETFROM:-0400
TZOFFSETTO:-0500
TZNAME:EST
DTSTART:20281105T060000
END:STANDARD
END:VTIMEZONE
BEGIN:VEVENT
DTSTART;TZID=America/Detroit:20271206T190000
DTEND;TZID=America/Detroit:20271206T200000
DTSTAMP:20260421T100339
CREATED:20251118T213415Z
LAST-MODIFIED:20260406T225141Z
UID:10000436-1828119600-1828123200@udca.info
SUMMARY:Social Committee Meeting
DESCRIPTION:The Social Committee is responsible for special activities in the neighborhood Harvest Fest\, Mixers\, etc. The committee is always looking for new members with new ideas and input. Interested in getting involved? Join the Zoom meeting at the link below. \nMeeting ID: 842 6966 7505\nPasscode: 656258
URL:https://udca.info/event/udca-social-committee-meeting-3/2027-12-06/
LOCATION:https://us02web.zoom.us/j/86070613442
CATEGORIES:Committee Meetings
ATTACH;FMTTYPE=image/png:https://udca.info/wp-content/uploads/2025/11/SocialCommittee.png
END:VEVENT
BEGIN:VEVENT
DTSTART;TZID=America/Detroit:20271207T190000
DTEND;TZID=America/Detroit:20271207T210000
DTSTAMP:20260421T100340
CREATED:20260205T151129Z
LAST-MODIFIED:20260205T151130Z
UID:10000315-1828206000-1828213200@udca.info
SUMMARY:Board Meeting
DESCRIPTION:Come learn more about the UDCA board – find out what the neighborhood is focusing on and how you can get involved! \nInterested in finding out more? Email secretary@UDCA.info
URL:https://udca.info/event/udca-board-meeting-3-3-2/2027-12-07/
LOCATION:https://us02web.zoom.us/j/88107083913
CATEGORIES:Board of Directors Meeting
ATTACH;FMTTYPE=image/png:https://udca.info/wp-content/uploads/2025/11/BOARDMEETING.png
END:VEVENT
BEGIN:VEVENT
DTSTART;TZID=America/Detroit:20271208T190000
DTEND;TZID=America/Detroit:20271208T200000
DTSTAMP:20260421T100340
CREATED:20260302T230010Z
LAST-MODIFIED:20260319T182844Z
UID:10000093-1828292400-1828296000@udca.info
SUMMARY:Special Assessment District Committee Meeting
DESCRIPTION:Monthly meeting of the UDCA Committee responsible for managing the Special Assessment funds\, ordinance compliance and services. The meeting agenda includes an opportunity for residents to be heard and ask questions. \nPlease email sad@udca.info for additional details. \nMeeting ID: 845 7710 8263\nPasscode: 349045
URL:https://udca.info/event/special-assessment-district-committee-meeting-2-2/2027-12-08/
LOCATION:https://us02web.zoom.us/j/84577108263
CATEGORIES:Committee Meetings
ATTACH;FMTTYPE=image/png:https://udca.info/wp-content/uploads/2025/11/SADCommittee.png
END:VEVENT
END:VCALENDAR