BEGIN:VCALENDAR
VERSION:2.0
PRODID:-//University District Community Association - ECPv6.15.17.1//NONSGML v1.0//EN
CALSCALE:GREGORIAN
METHOD:PUBLISH
X-ORIGINAL-URL:https://udca.info
X-WR-CALDESC:Events for University District Community Association
REFRESH-INTERVAL;VALUE=DURATION:PT1H
X-Robots-Tag:noindex
X-PUBLISHED-TTL:PT1H
BEGIN:VTIMEZONE
TZID:America/Detroit
BEGIN:DAYLIGHT
TZOFFSETFROM:-0500
TZOFFSETTO:-0400
TZNAME:EDT
DTSTART:20250309T070000
END:DAYLIGHT
BEGIN:STANDARD
TZOFFSETFROM:-0400
TZOFFSETTO:-0500
TZNAME:EST
DTSTART:20251102T060000
END:STANDARD
BEGIN:DAYLIGHT
TZOFFSETFROM:-0500
TZOFFSETTO:-0400
TZNAME:EDT
DTSTART:20260308T070000
END:DAYLIGHT
BEGIN:STANDARD
TZOFFSETFROM:-0400
TZOFFSETTO:-0500
TZNAME:EST
DTSTART:20261101T060000
END:STANDARD
BEGIN:DAYLIGHT
TZOFFSETFROM:-0500
TZOFFSETTO:-0400
TZNAME:EDT
DTSTART:20270314T070000
END:DAYLIGHT
BEGIN:STANDARD
TZOFFSETFROM:-0400
TZOFFSETTO:-0500
TZNAME:EST
DTSTART:20271107T060000
END:STANDARD
END:VTIMEZONE
BEGIN:VEVENT
DTSTART;TZID=America/Detroit:20261102T190000
DTEND;TZID=America/Detroit:20261102T200000
DTSTAMP:20260420T105115
CREATED:20251118T213415Z
LAST-MODIFIED:20260406T225141Z
UID:10000423-1793646000-1793649600@udca.info
SUMMARY:Social Committee Meeting
DESCRIPTION:The Social Committee is responsible for special activities in the neighborhood Harvest Fest\, Mixers\, etc. The committee is always looking for new members with new ideas and input. Interested in getting involved? Join the Zoom meeting at the link below. \nMeeting ID: 842 6966 7505\nPasscode: 656258
URL:https://udca.info/event/udca-social-committee-meeting-3/2026-11-02/
LOCATION:https://us02web.zoom.us/j/86070613442
CATEGORIES:Committee Meetings
ATTACH;FMTTYPE=image/png:https://udca.info/wp-content/uploads/2025/11/SocialCommittee.png
END:VEVENT
BEGIN:VEVENT
DTSTART;TZID=America/Detroit:20261107T100000
DTEND;TZID=America/Detroit:20261107T140000
DTSTAMP:20260420T105115
CREATED:20260302T230744Z
LAST-MODIFIED:20260302T230744Z
UID:10000634-1794045600-1794060000@udca.info
SUMMARY:Fall Clean Up
DESCRIPTION:It’s time to gather to clean up our neighborhood park and flower beds for the fall. Details TBD.
URL:https://udca.info/event/fall-clean-up/
LOCATION:Belden Santa Maria Park\, 17181 Belden St\, Detroit\, MI\, 48221\, United States
CATEGORIES:Social Events
END:VEVENT
END:VCALENDAR