BEGIN:VCALENDAR
VERSION:2.0
PRODID:-//University District Community Association - ECPv6.15.17.1//NONSGML v1.0//EN
CALSCALE:GREGORIAN
METHOD:PUBLISH
X-ORIGINAL-URL:https://udca.info
X-WR-CALDESC:Events for University District Community Association
REFRESH-INTERVAL;VALUE=DURATION:PT1H
X-Robots-Tag:noindex
X-PUBLISHED-TTL:PT1H
BEGIN:VTIMEZONE
TZID:America/Detroit
BEGIN:DAYLIGHT
TZOFFSETFROM:-0500
TZOFFSETTO:-0400
TZNAME:EDT
DTSTART:20250309T070000
END:DAYLIGHT
BEGIN:STANDARD
TZOFFSETFROM:-0400
TZOFFSETTO:-0500
TZNAME:EST
DTSTART:20251102T060000
END:STANDARD
BEGIN:DAYLIGHT
TZOFFSETFROM:-0500
TZOFFSETTO:-0400
TZNAME:EDT
DTSTART:20260308T070000
END:DAYLIGHT
BEGIN:STANDARD
TZOFFSETFROM:-0400
TZOFFSETTO:-0500
TZNAME:EST
DTSTART:20261101T060000
END:STANDARD
BEGIN:DAYLIGHT
TZOFFSETFROM:-0500
TZOFFSETTO:-0400
TZNAME:EDT
DTSTART:20270314T070000
END:DAYLIGHT
BEGIN:STANDARD
TZOFFSETFROM:-0400
TZOFFSETTO:-0500
TZNAME:EST
DTSTART:20271107T060000
END:STANDARD
END:VTIMEZONE
BEGIN:VEVENT
DTSTART;TZID=America/Detroit:20261005T190000
DTEND;TZID=America/Detroit:20261005T200000
DTSTAMP:20260420T105140
CREATED:20251118T213415Z
LAST-MODIFIED:20260406T225141Z
UID:10000422-1791226800-1791230400@udca.info
SUMMARY:Social Committee Meeting
DESCRIPTION:The Social Committee is responsible for special activities in the neighborhood Harvest Fest\, Mixers\, etc. The committee is always looking for new members with new ideas and input. Interested in getting involved? Join the Zoom meeting at the link below. \nMeeting ID: 842 6966 7505\nPasscode: 656258
URL:https://udca.info/event/udca-social-committee-meeting-3/2026-10-05/
LOCATION:https://us02web.zoom.us/j/86070613442
CATEGORIES:Committee Meetings
ATTACH;FMTTYPE=image/png:https://udca.info/wp-content/uploads/2025/11/SocialCommittee.png
END:VEVENT
BEGIN:VEVENT
DTSTART;TZID=America/Detroit:20261006T190000
DTEND;TZID=America/Detroit:20261006T210000
DTSTAMP:20260420T105140
CREATED:20260416T132454Z
LAST-MODIFIED:20260416T132712Z
UID:10000199-1791313200-1791320400@udca.info
SUMMARY:Board Meeting
DESCRIPTION:Come learn more about the UDCA board – find out what the neighborhood is focusing on and how you can get involved! \nInterested in finding out more? Email secretary@UDCA.info \nMeeting ID: 87698431807 \nPasscode: 464939
URL:https://udca.info/event/udca-board-meeting-3-4/2026-10-06/
LOCATION:https://us02web.zoom.us/j/87698431807
CATEGORIES:Board of Directors Meeting
ATTACH;FMTTYPE=image/png:https://udca.info/wp-content/uploads/2025/11/BOARDMEETING.png
END:VEVENT
END:VCALENDAR