BEGIN:VCALENDAR
VERSION:2.0
PRODID:-//University District Community Association - ECPv6.15.17.1//NONSGML v1.0//EN
CALSCALE:GREGORIAN
METHOD:PUBLISH
X-WR-CALNAME:University District Community Association
X-ORIGINAL-URL:https://udca.info
X-WR-CALDESC:Events for University District Community Association
REFRESH-INTERVAL;VALUE=DURATION:PT1H
X-Robots-Tag:noindex
X-PUBLISHED-TTL:PT1H
BEGIN:VTIMEZONE
TZID:America/Detroit
BEGIN:DAYLIGHT
TZOFFSETFROM:-0500
TZOFFSETTO:-0400
TZNAME:EDT
DTSTART:20240310T070000
END:DAYLIGHT
BEGIN:STANDARD
TZOFFSETFROM:-0400
TZOFFSETTO:-0500
TZNAME:EST
DTSTART:20241103T060000
END:STANDARD
BEGIN:DAYLIGHT
TZOFFSETFROM:-0500
TZOFFSETTO:-0400
TZNAME:EDT
DTSTART:20250309T070000
END:DAYLIGHT
BEGIN:STANDARD
TZOFFSETFROM:-0400
TZOFFSETTO:-0500
TZNAME:EST
DTSTART:20251102T060000
END:STANDARD
BEGIN:DAYLIGHT
TZOFFSETFROM:-0500
TZOFFSETTO:-0400
TZNAME:EDT
DTSTART:20260308T070000
END:DAYLIGHT
BEGIN:STANDARD
TZOFFSETFROM:-0400
TZOFFSETTO:-0500
TZNAME:EST
DTSTART:20261101T060000
END:STANDARD
END:VTIMEZONE
BEGIN:VEVENT
DTSTART;TZID=America/Detroit:20251208T190000
DTEND;TZID=America/Detroit:20251208T200000
DTSTAMP:20260421T040732
CREATED:20251118T212334Z
LAST-MODIFIED:20251126T162129Z
UID:10000005-1765220400-1765224000@udca.info
SUMMARY:Social Committee Meeting
DESCRIPTION:The UDCA Social Committee meets monthly and is always looking for new members! Contact communications@udca.info to virtual meeting information. \nThe UDCA social committee is responsible for: \n\nAll neighborhood gatherings and events\, including:\n\nAll resident meetings\nNew resident meet and greet\nSpecial activities in the neighborhood (Harvest Fest\, Easter Egg Hunt)
URL:https://udca.info/event/udca-social-committee-meeting/
LOCATION:MI
CATEGORIES:Committee Meetings
ATTACH;FMTTYPE=image/png:https://udca.info/wp-content/uploads/2025/11/SocialCommittee.png
END:VEVENT
BEGIN:VEVENT
DTSTART;TZID=America/Detroit:20251220T100000
DTEND;TZID=America/Detroit:20251220T120000
DTSTAMP:20260421T040732
CREATED:20251118T212144Z
LAST-MODIFIED:20251205T131603Z
UID:10000004-1766224800-1766232000@udca.info
SUMMARY:Block Captains Meeting
DESCRIPTION:All current and prospective block captains will meet to discuss all things happening in the University District! \nContact communications@udca.info for virtual meeting information.
URL:https://udca.info/event/udca-block-captains-meeting/
LOCATION:Gesu\, 17139 Oak Dr.\, Detroit\, MI\, 48221\, United States
CATEGORIES:Committee Meetings
ATTACH;FMTTYPE=image/png:https://udca.info/wp-content/uploads/2025/11/BlockCaptains.png
END:VEVENT
END:VCALENDAR